BEGIN:VCALENDAR
VERSION:2.0
PRODID:-//EVU | AFTT | ASTT - ECPv6.15.20//NONSGML v1.0//EN
CALSCALE:GREGORIAN
METHOD:PUBLISH
X-WR-CALNAME:EVU | AFTT | ASTT
X-ORIGINAL-URL:https://wp.evu.ch
X-WR-CALDESC:Évènements pour EVU | AFTT | ASTT
REFRESH-INTERVAL;VALUE=DURATION:PT1H
X-Robots-Tag:noindex
X-PUBLISHED-TTL:PT1H
BEGIN:VTIMEZONE
TZID:Europe/Zurich
BEGIN:DAYLIGHT
TZOFFSETFROM:+0100
TZOFFSETTO:+0200
TZNAME:CEST
DTSTART:20250330T010000
END:DAYLIGHT
BEGIN:STANDARD
TZOFFSETFROM:+0200
TZOFFSETTO:+0100
TZNAME:CET
DTSTART:20251026T010000
END:STANDARD
BEGIN:DAYLIGHT
TZOFFSETFROM:+0100
TZOFFSETTO:+0200
TZNAME:CEST
DTSTART:20260329T010000
END:DAYLIGHT
BEGIN:STANDARD
TZOFFSETFROM:+0200
TZOFFSETTO:+0100
TZNAME:CET
DTSTART:20261025T010000
END:STANDARD
BEGIN:DAYLIGHT
TZOFFSETFROM:+0100
TZOFFSETTO:+0200
TZNAME:CEST
DTSTART:20270328T010000
END:DAYLIGHT
BEGIN:STANDARD
TZOFFSETFROM:+0200
TZOFFSETTO:+0100
TZNAME:CET
DTSTART:20271031T010000
END:STANDARD
BEGIN:DAYLIGHT
TZOFFSETFROM:+0100
TZOFFSETTO:+0200
TZNAME:CEST
DTSTART:20280326T010000
END:DAYLIGHT
BEGIN:STANDARD
TZOFFSETFROM:+0200
TZOFFSETTO:+0100
TZNAME:CET
DTSTART:20281029T010000
END:STANDARD
END:VTIMEZONE
BEGIN:VEVENT
DTSTART;TZID=Europe/Zurich:20260424T090000
DTEND;TZID=Europe/Zurich:20260426T180000
DTSTAMP:20260420T050046
CREATED:20260413T104152Z
LAST-MODIFIED:20260413T104232Z
UID:30281-1777021200-1777226400@wp.evu.ch
SUMMARY:Kurs Bantiger
DESCRIPTION:SE 138\, SE 135/235\, SE 186/286 \nÜbernachtungsmöglichkeit wird zur Verfügung gestellt. \nAnmeldung: https://form.localclubs.ch/g9wOVyABmBJ6
URL:https://wp.evu.ch/agenda/kurs-bantiger/
LOCATION:Bern Kaserne
END:VEVENT
BEGIN:VEVENT
DTSTART;TZID=Europe/Zurich:20260502T080000
DTEND;TZID=Europe/Zurich:20260502T170000
DTSTAMP:20260420T050046
CREATED:20260415T062016Z
LAST-MODIFIED:20260415T062016Z
UID:30296-1777708800-1777741200@wp.evu.ch
SUMMARY:Frühlings-Bummel „PRIMAVERA DUE“
DESCRIPTION:
URL:https://wp.evu.ch/agenda/fruhlings-bummel-primavera-due/
END:VEVENT
BEGIN:VEVENT
DTSTART;VALUE=DATE:20260509
DTEND;VALUE=DATE:20260510
DTSTAMP:20260420T050046
CREATED:20260415T062107Z
LAST-MODIFIED:20260415T062107Z
UID:30298-1778284800-1778371199@wp.evu.ch
SUMMARY:Delegiertenversammlung
DESCRIPTION:
URL:https://wp.evu.ch/agenda/delegiertenversammlung/
LOCATION:Uzwil
END:VEVENT
BEGIN:VEVENT
DTSTART;VALUE=DATE:20260520
DTEND;VALUE=DATE:20260521
DTSTAMP:20260420T050046
CREATED:20260415T062130Z
LAST-MODIFIED:20260415T062130Z
UID:30301-1779235200-1779321599@wp.evu.ch
SUMMARY:Übung „HF“ (SE240 / SE430)
DESCRIPTION:
URL:https://wp.evu.ch/agenda/ubung-hf-se240-se430/
END:VEVENT
BEGIN:VEVENT
DTSTART;TZID=Europe/Zurich:20260611T080000
DTEND;TZID=Europe/Zurich:20260611T180000
DTSTAMP:20260420T050046
CREATED:20260413T104434Z
LAST-MODIFIED:20260413T104434Z
UID:30284-1781164800-1781200800@wp.evu.ch
SUMMARY:2TM - Materialfassung\, Materialkontrolle.
DESCRIPTION:Materialfassung\, Materialkontrolle. \nFunkgeräte Vorbereiten\, EDV Netz einrichten.
URL:https://wp.evu.ch/agenda/2tm-materialfassung-materialkontrolle/
LOCATION:Bern – Thun
END:VEVENT
BEGIN:VEVENT
DTSTART;TZID=Europe/Zurich:20260612T080000
DTEND;TZID=Europe/Zurich:20260612T180000
DTSTAMP:20260420T050046
CREATED:20260413T104611Z
LAST-MODIFIED:20260413T104611Z
UID:30286-1781251200-1781287200@wp.evu.ch
SUMMARY:2TM - TOC einrichten
DESCRIPTION:TOC einrichten\, Relais aufstellen\, Funktests auf der Strecke.
URL:https://wp.evu.ch/agenda/2tm-toc-einrichten/
LOCATION:Bern Kaserne\, Bantiger\, Strecke
END:VEVENT
BEGIN:VEVENT
DTSTART;TZID=Europe/Zurich:20260613T053000
DTEND;TZID=Europe/Zurich:20260613T180000
DTSTAMP:20260420T050046
CREATED:20260413T104715Z
LAST-MODIFIED:20260413T104715Z
UID:30288-1781328600-1781373600@wp.evu.ch
SUMMARY:2TM - Betreiben TOC
DESCRIPTION:Betreiben TOC\, Unterstützung auf der Strecke.
URL:https://wp.evu.ch/agenda/2tm-betreiben-toc/
LOCATION:Bern Kaserne
END:VEVENT
BEGIN:VEVENT
DTSTART;TZID=Europe/Zurich:20260614T053000
DTEND;TZID=Europe/Zurich:20260614T190000
DTSTAMP:20260420T050046
CREATED:20260413T104824Z
LAST-MODIFIED:20260413T104824Z
UID:30290-1781415000-1781463600@wp.evu.ch
SUMMARY:2TM - Betreiben TOC
DESCRIPTION:Betreiben TOC\, Unterstützung auf der Strecke\, \nFunkgeräterücknahme\, Materialkontrolle.
URL:https://wp.evu.ch/agenda/2tm-betreiben-toc-2/
LOCATION:Bern Kaserne
END:VEVENT
BEGIN:VEVENT
DTSTART;TZID=Europe/Zurich:20260615T080000
DTEND;TZID=Europe/Zurich:20260615T180000
DTSTAMP:20260420T050046
CREATED:20260413T104904Z
LAST-MODIFIED:20260413T104904Z
UID:30292-1781510400-1781546400@wp.evu.ch
SUMMARY:2TM - Relais abbauen
DESCRIPTION:Relais abbauen\, Material vorbereiten für Rückgabe.
URL:https://wp.evu.ch/agenda/2tm-relais-abbauen/
END:VEVENT
BEGIN:VEVENT
DTSTART;TZID=Europe/Zurich:20260616T090000
DTEND;TZID=Europe/Zurich:20260616T160000
DTSTAMP:20260420T050046
CREATED:20260413T105003Z
LAST-MODIFIED:20260413T105003Z
UID:30294-1781600400-1781625600@wp.evu.ch
SUMMARY:2TM - Materialrückgabe.
DESCRIPTION:Materialrückgabe.
URL:https://wp.evu.ch/agenda/2tm-materialruckgabe/
LOCATION:Bern Kaserne\, Thun.
END:VEVENT
BEGIN:VEVENT
DTSTART;VALUE=DATE:20260620
DTEND;VALUE=DATE:20260621
DTSTAMP:20260420T050046
CREATED:20260415T062157Z
LAST-MODIFIED:20260415T062157Z
UID:30303-1781913600-1781999999@wp.evu.ch
SUMMARY:Fk-U
DESCRIPTION:
URL:https://wp.evu.ch/agenda/fk-u/
END:VEVENT
BEGIN:VEVENT
DTSTART;VALUE=DATE:20260704
DTEND;VALUE=DATE:20260705
DTSTAMP:20260420T050046
CREATED:20260415T062222Z
LAST-MODIFIED:20260415T062222Z
UID:30305-1783123200-1783209599@wp.evu.ch
SUMMARY:Übung „LV“ (LV SE-235 in MB 300G)
DESCRIPTION:
URL:https://wp.evu.ch/agenda/ubung-lv-lv-se-235-in-mb-300g/
END:VEVENT
BEGIN:VEVENT
DTSTART;VALUE=DATE:20260815
DTEND;VALUE=DATE:20260816
DTSTAMP:20260420T050046
CREATED:20260415T062242Z
LAST-MODIFIED:20260415T062242Z
UID:30307-1786752000-1786838399@wp.evu.ch
SUMMARY:Uem U
DESCRIPTION:
URL:https://wp.evu.ch/agenda/uem-u/
END:VEVENT
BEGIN:VEVENT
DTSTART;VALUE=DATE:20260829
DTEND;VALUE=DATE:20260830
DTSTAMP:20260420T050046
CREATED:20260415T062303Z
LAST-MODIFIED:20260415T062303Z
UID:30309-1787961600-1788047999@wp.evu.ch
SUMMARY:Übung „ORTHO“ (Relais SE240 / SE-x35)
DESCRIPTION:
URL:https://wp.evu.ch/agenda/ubung-ortho-relais-se240-se-x35/
END:VEVENT
BEGIN:VEVENT
DTSTART;VALUE=DATE:20260919
DTEND;VALUE=DATE:20260920
DTSTAMP:20260420T050046
CREATED:20260415T062326Z
LAST-MODIFIED:20260415T062326Z
UID:30311-1789776000-1789862399@wp.evu.ch
SUMMARY:Herbstanlass
DESCRIPTION:
URL:https://wp.evu.ch/agenda/herbstanlass/
END:VEVENT
BEGIN:VEVENT
DTSTART;VALUE=DATE:20261114
DTEND;VALUE=DATE:20261116
DTSTAMP:20260420T050046
CREATED:20260415T062400Z
LAST-MODIFIED:20260415T062400Z
UID:30313-1794614400-1794787199@wp.evu.ch
SUMMARY:90. Frauenfelder
DESCRIPTION:
URL:https://wp.evu.ch/agenda/90-frauenfelder/
END:VEVENT
BEGIN:VEVENT
DTSTART;VALUE=DATE:20270307
DTEND;VALUE=DATE:20270308
DTSTAMP:20260420T050046
CREATED:20260415T062424Z
LAST-MODIFIED:20260415T062424Z
UID:30315-1804377600-1804463999@wp.evu.ch
SUMMARY:43. Unterlandstafette
DESCRIPTION:
URL:https://wp.evu.ch/agenda/43-unterlandstafette/
END:VEVENT
BEGIN:VEVENT
DTSTART;VALUE=DATE:20270313
DTEND;VALUE=DATE:20270314
DTSTAMP:20260420T050046
CREATED:20260415T062456Z
LAST-MODIFIED:20260415T062456Z
UID:30317-1804896000-1804982399@wp.evu.ch
SUMMARY:75. Hauptversammlung
DESCRIPTION:
URL:https://wp.evu.ch/agenda/75-hauptversammlung/
END:VEVENT
END:VCALENDAR